<?xml version="1.0" encoding="UTF-8"?>
<Capabilities xmlns="http://www.opengis.net/wmts/1.0"
xmlns:ows="http://www.opengis.net/ows/1.1"
xmlns:xlink="http://www.w3.org/1999/xlink"
xmlns:xsi="http://www.w3.org/2001/XMLSchema-instance"
xmlns:gml="http://www.opengis.net/gml"
xsi:schemaLocation="http://www.opengis.net/wmts/1.0 http://schemas.opengis.net/wmts/1.0/wmtsGetCapabilities_response.xsd"
version="1.0.0">
<!-- Service Identification --> <ows:ServiceIdentification>
<ows:Title>IGT_PPSAH_C03a_Condicionantes</ows:Title>
<ows:ServiceType>OGC WMTS</ows:ServiceType>
<ows:ServiceTypeVersion>1.0.0</ows:ServiceTypeVersion>
</ows:ServiceIdentification> <!-- Operations Metadata --> <ows:OperationsMetadata>
<ows:Operation name="GetCapabilities">
<ows:DCP>
<ows:HTTP>
<ows:Get xlink:href="https://ciranda.cmah.pt/arcgis/rest/services/IGT/PPSAH_C03a_Condicionantes/MapServer/WMTS/1.0.0/WMTSCapabilities.xml">
<ows:Constraint name="GetEncoding">
<ows:AllowedValues>
<ows:Value>RESTful</ows:Value>
</ows:AllowedValues>
</ows:Constraint>
</ows:Get>
<!-- add KVP binding in 10.1 -->
<ows:Get xlink:href="https://ciranda.cmah.pt/arcgis/rest/services/IGT/PPSAH_C03a_Condicionantes/MapServer/WMTS?">
<ows:Constraint name="GetEncoding">
<ows:AllowedValues>
<ows:Value>KVP</ows:Value>
</ows:AllowedValues>
</ows:Constraint>
</ows:Get>
</ows:HTTP>
</ows:DCP>
</ows:Operation>
<ows:Operation name="GetTile">
<ows:DCP>
<ows:HTTP>
<ows:Get xlink:href="https://ciranda.cmah.pt/arcgis/rest/services/IGT/PPSAH_C03a_Condicionantes/MapServer/WMTS/tile/1.0.0/">
<ows:Constraint name="GetEncoding">
<ows:AllowedValues>
<ows:Value>RESTful</ows:Value>
</ows:AllowedValues>
</ows:Constraint>
</ows:Get>
<ows:Get xlink:href="https://ciranda.cmah.pt/arcgis/rest/services/IGT/PPSAH_C03a_Condicionantes/MapServer/WMTS?">
<ows:Constraint name="GetEncoding">
<ows:AllowedValues>
<ows:Value>KVP</ows:Value>
</ows:AllowedValues>
</ows:Constraint>
</ows:Get>
</ows:HTTP>
</ows:DCP>
</ows:Operation>
</ows:OperationsMetadata> <Contents>
<!--Layer--> <Layer>
<ows:Title>IGT_PPSAH_C03a_Condicionantes</ows:Title> <ows:Identifier>IGT_PPSAH_C03a_Condicionantes</ows:Identifier>
<ows:BoundingBox crs="urn:ogc:def:crs:EPSG::5015">
<ows:LowerCorner>478816.42360000033 4276569.208000001</ows:LowerCorner>
<ows:UpperCorner>483095.0585000003 4280012.15405</ows:UpperCorner>
</ows:BoundingBox> <ows:WGS84BoundingBox crs="urn:ogc:def:crs:OGC:2:84">
<ows:LowerCorner>-27.2435048224048 38.63741251968552</ows:LowerCorner>
<ows:UpperCorner>-27.19423848647389 38.6685317532748</ows:UpperCorner>
</ows:WGS84BoundingBox>
<Style isDefault="true">
<ows:Title>Default Style</ows:Title>
<ows:Identifier>default</ows:Identifier>
</Style>
<Format>image/png</Format>
<TileMatrixSetLink>
<TileMatrixSet>default028mm</TileMatrixSet>
</TileMatrixSetLink>
<ResourceURL format="image/png" resourceType="tile" template="https://ciranda.cmah.pt/arcgis/rest/services/IGT/PPSAH_C03a_Condicionantes/MapServer/WMTS/tile/1.0.0/IGT_PPSAH_C03a_Condicionantes/{Style}/{TileMatrixSet}/{TileMatrix}/{TileRow}/{TileCol}.png" />
</Layer> <!--TileMatrixSet-->
<TileMatrixSet>
<ows:Title>TileMatrix using 0.28mm</ows:Title>
<ows:Abstract>The tile matrix set that has scale values calculated based on the dpi defined by OGC specification (dpi assumes 0.28mm as the physical distance of a pixel).</ows:Abstract> <ows:Identifier>default028mm</ows:Identifier>
<ows:SupportedCRS>urn:ogc:def:crs:EPSG::5015</ows:SupportedCRS>
<TileMatrix>
<ows:Identifier>0</ows:Identifier>
<ScaleDenominator>188988.4732150179</ScaleDenominator>
<TopLeftCorner>-5120900.0 9998100.0</TopLeftCorner> <TileWidth>256</TileWidth> <TileHeight>256</TileHeight>
<MatrixWidth>414</MatrixWidth> <MatrixHeight>423</MatrixHeight>
</TileMatrix>
<TileMatrix>
<ows:Identifier>1</ows:Identifier>
<ScaleDenominator>94494.23660750895</ScaleDenominator>
<TopLeftCorner>-5120900.0 9998100.0</TopLeftCorner> <TileWidth>256</TileWidth> <TileHeight>256</TileHeight>
<MatrixWidth>828</MatrixWidth> <MatrixHeight>845</MatrixHeight>
</TileMatrix>
<TileMatrix>
<ows:Identifier>2</ows:Identifier>
<ScaleDenominator>47247.118303754476</ScaleDenominator>
<TopLeftCorner>-5120900.0 9998100.0</TopLeftCorner> <TileWidth>256</TileWidth> <TileHeight>256</TileHeight>
<MatrixWidth>1655</MatrixWidth> <MatrixHeight>1690</MatrixHeight>
</TileMatrix>
<TileMatrix>
<ows:Identifier>3</ows:Identifier>
<ScaleDenominator>23623.559151877238</ScaleDenominator>
<TopLeftCorner>-5120900.0 9998100.0</TopLeftCorner> <TileWidth>256</TileWidth> <TileHeight>256</TileHeight>
<MatrixWidth>3310</MatrixWidth> <MatrixHeight>3379</MatrixHeight>
</TileMatrix>
<TileMatrix>
<ows:Identifier>4</ows:Identifier>
<ScaleDenominator>16536.491406314068</ScaleDenominator>
<TopLeftCorner>-5120900.0 9998100.0</TopLeftCorner> <TileWidth>256</TileWidth> <TileHeight>256</TileHeight>
<MatrixWidth>4728</MatrixWidth> <MatrixHeight>4827</MatrixHeight>
</TileMatrix>
<TileMatrix>
<ows:Identifier>5</ows:Identifier>
<ScaleDenominator>9449.423660750896</ScaleDenominator>
<TopLeftCorner>-5120900.0 9998100.0</TopLeftCorner> <TileWidth>256</TileWidth> <TileHeight>256</TileHeight>
<MatrixWidth>8274</MatrixWidth> <MatrixHeight>8448</MatrixHeight>
</TileMatrix>
<TileMatrix>
<ows:Identifier>6</ows:Identifier>
<ScaleDenominator>4724.711830375448</ScaleDenominator>
<TopLeftCorner>-5120900.0 9998100.0</TopLeftCorner> <TileWidth>256</TileWidth> <TileHeight>256</TileHeight>
<MatrixWidth>16548</MatrixWidth> <MatrixHeight>16895</MatrixHeight>
</TileMatrix>
<TileMatrix>
<ows:Identifier>7</ows:Identifier>
<ScaleDenominator>1889.8847321501792</ScaleDenominator>
<TopLeftCorner>-5120900.0 9998100.0</TopLeftCorner> <TileWidth>256</TileWidth> <TileHeight>256</TileHeight>
<MatrixWidth>41368</MatrixWidth> <MatrixHeight>42236</MatrixHeight>
</TileMatrix>
<TileMatrix>
<ows:Identifier>8</ows:Identifier>
<ScaleDenominator>944.9423660750896</ScaleDenominator>
<TopLeftCorner>-5120900.0 9998100.0</TopLeftCorner> <TileWidth>256</TileWidth> <TileHeight>256</TileHeight>
<MatrixWidth>82736</MatrixWidth> <MatrixHeight>84472</MatrixHeight>
</TileMatrix>
<TileMatrix>
<ows:Identifier>9</ows:Identifier>
<ScaleDenominator>472.4711830375448</ScaleDenominator>
<TopLeftCorner>-5120900.0 9998100.0</TopLeftCorner> <TileWidth>256</TileWidth> <TileHeight>256</TileHeight>
<MatrixWidth>165472</MatrixWidth> <MatrixHeight>168943</MatrixHeight>
</TileMatrix>
<TileMatrix>
<ows:Identifier>10</ows:Identifier>
<ScaleDenominator>236.2355915187724</ScaleDenominator>
<TopLeftCorner>-5120900.0 9998100.0</TopLeftCorner> <TileWidth>256</TileWidth> <TileHeight>256</TileHeight>
<MatrixWidth>330944</MatrixWidth> <MatrixHeight>337886</MatrixHeight>
</TileMatrix>
</TileMatrixSet>
</Contents>
<ServiceMetadataURL xlink:href="https://ciranda.cmah.pt/arcgis/rest/services/IGT/PPSAH_C03a_Condicionantes/MapServer/WMTS/1.0.0/WMTSCapabilities.xml" /> </Capabilities>
